BEGIN:VCALENDAR
VERSION:2.0
PRODID:-//Drupal iCal API//EN
X-WR-CALNAME:Calendar of Events
X-WR-TIMEZONE:America/Chicago
BEGIN:VTIMEZONE
TZID:America/Chicago
X-LIC-LOCATION:America/Chicago
BEGIN:DAYLIGHT
TZNAME:CDT
TZOFFSETFROM:-0600
TZOFFSETTO:-0500
DTSTART:20260308T080000
END:DAYLIGHT
BEGIN:STANDARD
TZNAME:CST
TZOFFSETFROM:-0500
TZOFFSETTO:-0600
DTSTART:20251102T070000
END:STANDARD
END:VTIMEZONE
BEGIN:VEVENT
UID:509d52f0-1844-45b1-95a2-75248363071b
DTSTART;TZID=America/Chicago:20260512T083000
SEQUENCE:0
TRANSP:TRANSPARENT
DTEND;TZID=America/Chicago:20260512T093000
SUMMARY:Campus Tours
CLASS:PUBLIC
DESCRIPTION:Body \n\nProspective Family Tours are great opportunities for f
 amilies to learn\nabout our school culture and programming.  We would lov
 e to share\nOrtega with you! Please note that tours are for adults only.\n
 \n* DATE/TIME: May 12 @ 8:30-9:30 AM\n * LOCATION: 1135 Garland Ave.\n *
  PARKING: Front circle drive or street parking. Please check in at\nthe f
 ront office with a photo ID.\n
DTSTAMP:20260410T064239Z
END:VEVENT
END:VCALENDAR